BEGIN:VCALENDAR
VERSION:2.0
PRODID:-//hacksw/handcal//NONSGML v1.0//EN
BEGIN:VEVENT
SUMMARY:INTERCLUB MORESTEL
UID:b027e507-a8b6-4639-9d4c-c7b561fa3630
DTSTART:20260502T220000Z
DTEND:20260503T220000Z
LOCATION:Localisation   
CATEGORIES:Sportif
STATUS:
URL;VALUE=URI:https://www.judonivolasvermelle.com/evenements/2026/05/03/interclub-morestel-2443993
END:VEVENT
END:VCALENDAR
